BEGIN:VCALENDAR
VERSION:2.0
PRODID:-//Centre for Graduate Mentorship &amp; Supervision - ECPv6.15.20//NONSGML v1.0//EN
CALSCALE:GREGORIAN
METHOD:PUBLISH
X-WR-CALNAME:Centre for Graduate Mentorship &amp; Supervision
X-ORIGINAL-URL:https://www.cgms.utoronto.ca
X-WR-CALDESC:Events for Centre for Graduate Mentorship &amp; Supervision
REFRESH-INTERVAL;VALUE=DURATION:PT1H
X-Robots-Tag:noindex
X-PUBLISHED-TTL:PT1H
BEGIN:VTIMEZONE
TZID:America/Toronto
BEGIN:DAYLIGHT
TZOFFSETFROM:-0500
TZOFFSETTO:-0400
TZNAME:EDT
DTSTART:20230312T070000
END:DAYLIGHT
BEGIN:STANDARD
TZOFFSETFROM:-0400
TZOFFSETTO:-0500
TZNAME:EST
DTSTART:20231105T060000
END:STANDARD
BEGIN:DAYLIGHT
TZOFFSETFROM:-0500
TZOFFSETTO:-0400
TZNAME:EDT
DTSTART:20240310T070000
END:DAYLIGHT
BEGIN:STANDARD
TZOFFSETFROM:-0400
TZOFFSETTO:-0500
TZNAME:EST
DTSTART:20241103T060000
END:STANDARD
BEGIN:DAYLIGHT
TZOFFSETFROM:-0500
TZOFFSETTO:-0400
TZNAME:EDT
DTSTART:20250309T070000
END:DAYLIGHT
BEGIN:STANDARD
TZOFFSETFROM:-0400
TZOFFSETTO:-0500
TZNAME:EST
DTSTART:20251102T060000
END:STANDARD
END:VTIMEZONE
BEGIN:VEVENT
DTSTART;TZID=America/Toronto:20240206T100000
DTEND;TZID=America/Toronto:20240206T120000
DTSTAMP:20260422T044259
CREATED:20231215T164759Z
LAST-MODIFIED:20231215T165538Z
UID:1671-1707213600-1707220800@www.cgms.utoronto.ca
SUMMARY:Managing Interpersonal Challenges in the Supervisory Relationship: Faculty Workshop
DESCRIPTION:(Previously “Understanding Conflict” and “Having Difficult Conversations”) This workshop will be taught by Aziza Kajan\, Director\, and Lauren Pais\, Case Coordinator. Good supervision is a shared responsibility between a graduate student and their supervisor. You will need strong interpersonal communication skills to establish mutual expectations\, hold each other to high academic standards\, be self-reflective\, and address concerns in a timely manner with clarity\, empathy\, and understanding. This workshop helps participants understand where interpersonal challenges may arise and how disagreements escalate in the supervisory relationship. This workshop offers practical approaches and strategies you can incorporate to resolve and manage interpersonal challenges in your supervisory relationship\, including a step-by-step guide to having difficult conversations. Participants will be provided with case studies and asked to make use of what they have learned in guided group conversations.
URL:https://www.cgms.utoronto.ca/event/managing-interpersonal-challenges-in-the-supervisory-relationship-faculty-workshop/
CATEGORIES:CGMS Workshops
ORGANIZER;CN="Centre for Graduate Mentorship and Supervision (CGMS)":MAILTO:cgms@utoronto.ca
END:VEVENT
END:VCALENDAR